BEGIN:VCALENDAR
VERSION:2.0
PRODID:-//81.88.36.52//NONSGML kigkonsult.se iCalcreator 2.20//
CALSCALE:GREGORIAN
METHOD:PUBLISH
X-WR-TIMEZONE:Europe/Vienna
BEGIN:VEVENT
UID:event75@Online-Magazin SCHNAPPEN.AT: die interessanten Seiten des Leben
 s
DTSTAMP:20260425T211213Z
CATEGORIES:Veranstaltungen\, Wir berichten über...
DESCRIPTION:Wein Burgenland Aktuell: Events \nKategorie: Veranstaltungen\, 
 Wir berichten über...\nICS-Link: https://schnappen.at/oesterreich/index.ph
 p?option=com_jem&view=event&id=75:wein-burgenland\n
DTSTART;VALUE=DATE:20260506
DTEND;VALUE=DATE:20260507
SUMMARY:Wein Burgenland Aktuell: Events 
URL:https://schnappen.at/oesterreich/index.php?option=com_jem&view=event&id
 =75:wein-burgenland
END:VEVENT
END:VCALENDAR