BEGIN:VCALENDAR
VERSION:2.0
PRODID:-//81.88.36.52//NONSGML kigkonsult.se iCalcreator 2.20//
CALSCALE:GREGORIAN
METHOD:PUBLISH
X-WR-TIMEZONE:Europe/Vienna
BEGIN:VEVENT
UID:event755@Online-Magazin SCHNAPPEN.AT: die interessanten Seiten des Lebe
 ns
DTSTAMP:20260425T110449Z
CATEGORIES:Bauernmarkt & Adventmaerkte\, Veranstaltungen
DESCRIPTION:Weinfestival Thermenregion\nKategorie: Bauernmarkt & Adventmaer
 kte\, Veranstaltungen\nICS-Link: https://schnappen.at/oesterreich/index.ph
 p?option=com_jem&view=event&id=755:weinfestival-thermenregion\n
DTSTART;VALUE=DATE:20260523
DTEND;VALUE=DATE:20260526
SUMMARY:Weinfestival Thermenregion
URL:https://schnappen.at/oesterreich/index.php?option=com_jem&view=event&id
 =755:weinfestival-thermenregion
END:VEVENT
END:VCALENDAR