BEGIN:VCALENDAR
VERSION:2.0
PRODID:-//81.88.36.52//NONSGML kigkonsult.se iCalcreator 2.20//
CALSCALE:GREGORIAN
METHOD:PUBLISH
X-WR-TIMEZONE:Europe/Vienna
BEGIN:VEVENT
UID:event749@Online-Magazin SCHNAPPEN.AT: die interessanten Seiten des Lebe
 ns
DTSTAMP:20260425T121631Z
CATEGORIES:Termine noch offen
DESCRIPTION:Heuriger Redinger in Klosterneuburg\nKategorie: Termine noch of
 fen\nICS-Link: https://schnappen.at/oesterreich/index.php?option=com_jem&v
 iew=event&id=749:redinger-heuriger\n
DTSTART;VALUE=DATE:20260923
DTEND;VALUE=DATE:20261012
SUMMARY:Heuriger Redinger in Klosterneuburg
URL:https://schnappen.at/oesterreich/index.php?option=com_jem&view=event&id
 =749:redinger-heuriger
END:VEVENT
END:VCALENDAR