BEGIN:VCALENDAR
VERSION:2.0
PRODID:-//81.88.36.52//NONSGML kigkonsult.se iCalcreator 2.20//
CALSCALE:GREGORIAN
METHOD:PUBLISH
X-WR-TIMEZONE:Europe/Vienna
BEGIN:VEVENT
UID:event746@Online-Magazin SCHNAPPEN.AT: die interessanten Seiten des Lebe
 ns
DTSTAMP:20260425T121807Z
CATEGORIES:Veranstaltungen\, Wir berichten über...
DESCRIPTION:Pat Metheny\nKategorie: Veranstaltungen\, Wir berichten über...
 \nICS-Link: https://schnappen.at/oesterreich/index.php?option=com_jem&view
 =event&id=746:metheny\n
DTSTART;VALUE=DATE:20260629
DTEND;VALUE=DATE:20260630
LOCATION:Konzerthaus Wien\,Lothringer Str. 20\,1030 Wien
SUMMARY:Pat Metheny
URL:https://schnappen.at/oesterreich/index.php?option=com_jem&view=event&id
 =746:metheny
END:VEVENT
END:VCALENDAR