BEGIN:VCALENDAR
VERSION:2.0
PRODID:-//81.88.36.52//NONSGML kigkonsult.se iCalcreator 2.20//
CALSCALE:GREGORIAN
METHOD:PUBLISH
X-WR-TIMEZONE:Europe/Vienna
BEGIN:VEVENT
UID:event743@Online-Magazin SCHNAPPEN.AT: die interessanten Seiten des Lebe
 ns
DTSTAMP:20260425T121810Z
CATEGORIES:Veranstaltungen
DESCRIPTION:One Vision of Queen \nKategorie: Veranstaltungen\nICS-Link: htt
 ps://schnappen.at/oesterreich/index.php?option=com_jem&view=event&id=743:q
 ueen\n
DTSTART;VALUE=DATE:20270224
DTEND;VALUE=DATE:20270225
SUMMARY:One Vision of Queen 
URL:https://schnappen.at/oesterreich/index.php?option=com_jem&view=event&id
 =743:queen
END:VEVENT
END:VCALENDAR