BEGIN:VCALENDAR
VERSION:2.0
PRODID:-//81.88.36.52//NONSGML kigkonsult.se iCalcreator 2.20//
CALSCALE:GREGORIAN
METHOD:PUBLISH
X-WR-TIMEZONE:Europe/Vienna
BEGIN:VEVENT
UID:event721@Online-Magazin SCHNAPPEN.AT: die interessanten Seiten des Lebe
 ns
DTSTAMP:20260425T121829Z
CATEGORIES:Veranstaltungen
DESCRIPTION:Cenacolo Krippenspiel in Kleinfrauenhaid\nKategorie: Veranstalt
 ungen\nICS-Link: https://schnappen.at/oesterreich/index.php?option=com_jem
 &view=event&id=721:cenacolo\n
DTSTART;TZID=Europe/Vienna:20261227T170000
DTEND;TZID=Europe/Vienna:20261227T170000
SUMMARY:Cenacolo Krippenspiel in Kleinfrauenhaid
URL:https://schnappen.at/oesterreich/index.php?option=com_jem&view=event&id
 =721:cenacolo
END:VEVENT
END:VCALENDAR