BEGIN:VCALENDAR
VERSION:2.0
PRODID:-//81.88.36.52//NONSGML kigkonsult.se iCalcreator 2.20//
CALSCALE:GREGORIAN
METHOD:PUBLISH
X-WR-TIMEZONE:Europe/Vienna
BEGIN:VEVENT
UID:event720@Online-Magazin SCHNAPPEN.AT: die interessanten Seiten des Lebe
 ns
DTSTAMP:20260425T121814Z
CATEGORIES:Veranstaltungen\, Wir berichten über...
DESCRIPTION:Cenacolo Krippenspiel in Kleinfrauenhaid\nKategorie: Veranstalt
 ungen\, Wir berichten über...\nICS-Link: https://schnappen.at/oesterreich/
 index.php?option=com_jem&view=event&id=720:cenacolo\n
DTSTART;TZID=Europe/Vienna:20261220T170000
DTEND;TZID=Europe/Vienna:20261220T170000
SUMMARY:Cenacolo Krippenspiel in Kleinfrauenhaid
URL:https://schnappen.at/oesterreich/index.php?option=com_jem&view=event&id
 =720:cenacolo
END:VEVENT
END:VCALENDAR