BEGIN:VCALENDAR
VERSION:2.0
PRODID:-//81.88.36.52//NONSGML kigkonsult.se iCalcreator 2.20//
CALSCALE:GREGORIAN
METHOD:PUBLISH
X-WR-TIMEZONE:Europe/Vienna
BEGIN:VEVENT
UID:event717@Online-Magazin SCHNAPPEN.AT: die interessanten Seiten des Lebe
 ns
DTSTAMP:20260425T122020Z
CATEGORIES:Termine noch offen
DESCRIPTION:Salzburger Dult 2026\nKategorie: Termine noch offen\nICS-Link: 
 https://schnappen.at/oesterreich/index.php?option=com_jem&view=event&id=71
 7:salzburger-dult\n
DTSTART;VALUE=DATE:20260523
DTEND;VALUE=DATE:20260601
LOCATION:Messezentrum Salzburg\,Am Messezentrum 1\,5020 Salzburg
SUMMARY:Salzburger Dult 2026
URL:https://schnappen.at/oesterreich/index.php?option=com_jem&view=event&id
 =717:salzburger-dult
END:VEVENT
END:VCALENDAR