BEGIN:VCALENDAR
VERSION:2.0
PRODID:-//81.88.36.52//NONSGML kigkonsult.se iCalcreator 2.20//
CALSCALE:GREGORIAN
METHOD:PUBLISH
X-WR-TIMEZONE:Europe/Vienna
BEGIN:VEVENT
UID:event716@Online-Magazin SCHNAPPEN.AT: die interessanten Seiten des Lebe
 ns
DTSTAMP:20260425T121630Z
CATEGORIES:Termine noch offen
DESCRIPTION:Advent Klostermarkt Heiligenkreuz\nKategorie: Termine noch offe
 n\nICS-Link: https://schnappen.at/oesterreich/index.php?option=com_jem&vie
 w=event&id=716:advent-heiligenkreuz\n
DTSTART;TZID=Europe/Vienna:20261212T090000
DTEND;TZID=Europe/Vienna:20261212T210000
SUMMARY:Advent Klostermarkt Heiligenkreuz
URL:https://schnappen.at/oesterreich/index.php?option=com_jem&view=event&id
 =716:advent-heiligenkreuz
END:VEVENT
END:VCALENDAR