BEGIN:VCALENDAR
VERSION:2.0
PRODID:-//81.88.36.52//NONSGML kigkonsult.se iCalcreator 2.20//
CALSCALE:GREGORIAN
METHOD:PUBLISH
X-WR-TIMEZONE:Europe/Vienna
BEGIN:VEVENT
UID:event715@Online-Magazin SCHNAPPEN.AT: die interessanten Seiten des Lebe
 ns
DTSTAMP:20260425T105505Z
CATEGORIES:Veranstaltungen
DESCRIPTION:Royal Republic in der Schweiz\nKategorie: Veranstaltungen\nICS-
 Link: https://schnappen.at/oesterreich/index.php?option=com_jem&view=event
 &id=715:royal-republic\n
DTSTART;VALUE=DATE:20260612
DTEND;VALUE=DATE:20260613
SUMMARY:Royal Republic in der Schweiz
URL:https://schnappen.at/oesterreich/index.php?option=com_jem&view=event&id
 =715:royal-republic
END:VEVENT
END:VCALENDAR