BEGIN:VCALENDAR
VERSION:2.0
PRODID:-//81.88.36.52//NONSGML kigkonsult.se iCalcreator 2.20//
CALSCALE:GREGORIAN
METHOD:PUBLISH
X-WR-TIMEZONE:Europe/Vienna
BEGIN:VEVENT
UID:event714@Online-Magazin SCHNAPPEN.AT: die interessanten Seiten des Lebe
 ns
DTSTAMP:20260425T121655Z
CATEGORIES:Veranstaltungen
DESCRIPTION:Macklemore in der Schweiz\nKategorie: Veranstaltungen\nICS-Link
 : https://schnappen.at/oesterreich/index.php?option=com_jem&view=event&id=
 714:macklemore\n
DTSTART;VALUE=DATE:20260807
DTEND;VALUE=DATE:20260808
SUMMARY:Macklemore in der Schweiz
URL:https://schnappen.at/oesterreich/index.php?option=com_jem&view=event&id
 =714:macklemore
END:VEVENT
END:VCALENDAR