BEGIN:VCALENDAR
VERSION:2.0
PRODID:-//81.88.36.52//NONSGML kigkonsult.se iCalcreator 2.20//
CALSCALE:GREGORIAN
METHOD:PUBLISH
X-WR-TIMEZONE:Europe/Vienna
BEGIN:VEVENT
UID:event711@Online-Magazin SCHNAPPEN.AT: die interessanten Seiten des Lebe
 ns
DTSTAMP:20260425T121936Z
CATEGORIES:Veranstaltungen
DESCRIPTION:The Harlem Globetrotters in Wien \nKategorie: Veranstaltungen\n
 ICS-Link: https://schnappen.at/oesterreich/index.php?option=com_jem&view=e
 vent&id=711:harlem-globetrotters\n
DTSTART;VALUE=DATE:20261008
DTEND;VALUE=DATE:20261009
LOCATION:VAZ St. Pölten\,Kelsengasse 1\,3100 St. Pölten
SUMMARY:The Harlem Globetrotters in Wien 
URL:https://schnappen.at/oesterreich/index.php?option=com_jem&view=event&id
 =711:harlem-globetrotters
END:VEVENT
END:VCALENDAR