BEGIN:VCALENDAR
VERSION:2.0
PRODID:-//81.88.36.52//NONSGML kigkonsult.se iCalcreator 2.20//
CALSCALE:GREGORIAN
METHOD:PUBLISH
X-WR-TIMEZONE:Europe/Vienna
BEGIN:VEVENT
UID:event709@Online-Magazin SCHNAPPEN.AT: die interessanten Seiten des Lebe
 ns
DTSTAMP:20260425T121822Z
CATEGORIES:Veranstaltungen
DESCRIPTION:Silvesterpfad in Wien\nKategorie: Veranstaltungen\nICS-Link: ht
 tps://schnappen.at/oesterreich/index.php?option=com_jem&view=event&id=709:
 silvesterpfad\n
DTSTART;VALUE=DATE:20261231
DTEND;VALUE=DATE:20270101
SUMMARY:Silvesterpfad in Wien
URL:https://schnappen.at/oesterreich/index.php?option=com_jem&view=event&id
 =709:silvesterpfad
END:VEVENT
END:VCALENDAR