BEGIN:VCALENDAR
VERSION:2.0
PRODID:-//81.88.36.52//NONSGML kigkonsult.se iCalcreator 2.20//
CALSCALE:GREGORIAN
METHOD:PUBLISH
X-WR-TIMEZONE:Europe/Vienna
BEGIN:VEVENT
UID:event700@Online-Magazin SCHNAPPEN.AT: die interessanten Seiten des Lebe
 ns
DTSTAMP:20260425T121831Z
CATEGORIES:Veranstaltungen
DESCRIPTION:Wiener Comedian Harmonists \nKategorie: Veranstaltungen\nICS-Li
 nk: https://schnappen.at/oesterreich/index.php?option=com_jem&view=event&i
 d=700:comedian-harmonists\n
DTSTART;TZID=Europe/Vienna:20260906T200000
DTEND;TZID=Europe/Vienna:20260906T200000
SUMMARY:Wiener Comedian Harmonists 
URL:https://schnappen.at/oesterreich/index.php?option=com_jem&view=event&id
 =700:comedian-harmonists
END:VEVENT
END:VCALENDAR