BEGIN:VCALENDAR
VERSION:2.0
PRODID:-//81.88.36.52//NONSGML kigkonsult.se iCalcreator 2.20//
CALSCALE:GREGORIAN
METHOD:PUBLISH
X-WR-TIMEZONE:Europe/Vienna
BEGIN:VEVENT
UID:event697@Online-Magazin SCHNAPPEN.AT: die interessanten Seiten des Lebe
 ns
DTSTAMP:20260425T105450Z
CATEGORIES:Termine noch offen
DESCRIPTION:Ritterfest\, das Mittelalterfest in Jedenspeigen\nKategorie: Te
 rmine noch offen\nICS-Link: https://schnappen.at/oesterreich/index.php?opt
 ion=com_jem&view=event&id=697:jedenspeigen\n
DTSTART;VALUE=DATE:20280812
DTEND;VALUE=DATE:20280814
LOCATION:Schloss Jedenspeigen\,Schlossplatz\,2264  Jedenspeigen
SUMMARY:Ritterfest\, das Mittelalterfest in Jedenspeigen
URL:https://schnappen.at/oesterreich/index.php?option=com_jem&view=event&id
 =697:jedenspeigen
END:VEVENT
END:VCALENDAR