BEGIN:VCALENDAR
VERSION:2.0
PRODID:-//81.88.36.52//NONSGML kigkonsult.se iCalcreator 2.20//
CALSCALE:GREGORIAN
METHOD:PUBLISH
X-WR-TIMEZONE:Europe/Vienna
BEGIN:VEVENT
UID:event674@Online-Magazin SCHNAPPEN.AT: die interessanten Seiten des Lebe
 ns
DTSTAMP:20260424T125725Z
CATEGORIES:Termine noch offen
DESCRIPTION:Heyfield-Festival \nKategorie: Termine noch offen\nICS-Link: ht
 tps://schnappen.at/oesterreich/index.php?option=com_jem&view=event&id=674:
 nu-forms\n
DTSTART;VALUE=DATE:20220721
DTEND;VALUE=DATE:20220724
LOCATION:Wiesen Festivalgelände\,Schöllingstraße\,7203 Wiesen
SUMMARY:Heyfield-Festival 
URL:https://schnappen.at/oesterreich/index.php?option=com_jem&view=event&id
 =674:nu-forms
END:VEVENT
END:VCALENDAR