BEGIN:VCALENDAR
VERSION:2.0
PRODID:-//81.88.36.52//NONSGML kigkonsult.se iCalcreator 2.20//
CALSCALE:GREGORIAN
METHOD:PUBLISH
X-WR-TIMEZONE:Europe/Vienna
BEGIN:VEVENT
UID:event671@Online-Magazin SCHNAPPEN.AT: die interessanten Seiten des Lebe
 ns
DTSTAMP:20260425T121828Z
CATEGORIES:Veranstaltungen\, Wir berichten über...
DESCRIPTION:Clam Rock Festival 2026 in Österreich\nKategorie: Veranstaltung
 en\, Wir berichten über...\nICS-Link: https://schnappen.at/oesterreich/ind
 ex.php?option=com_jem&view=event&id=671:clam-rock\n
DTSTART;TZID=Europe/Vienna:20260703T140000
DTEND;TZID=Europe/Vienna:20260703T140000
LOCATION:Burg Clam\,Sperken 1\,4352 Klam
SUMMARY:Clam Rock Festival 2026 in Österreich
URL:https://schnappen.at/oesterreich/index.php?option=com_jem&view=event&id
 =671:clam-rock
END:VEVENT
END:VCALENDAR