BEGIN:VCALENDAR
VERSION:2.0
PRODID:-//81.88.36.52//NONSGML kigkonsult.se iCalcreator 2.20//
CALSCALE:GREGORIAN
METHOD:PUBLISH
X-WR-TIMEZONE:Europe/Vienna
BEGIN:VEVENT
UID:event66@Online-Magazin SCHNAPPEN.AT: die interessanten Seiten des Leben
 s
DTSTAMP:20260425T121237Z
CATEGORIES:Messeveranstaltungen im Messekalender
DESCRIPTION:Inform Messe Oberwart\nKategorie: Messeveranstaltungen im Messe
 kalender\nICS-Link: https://schnappen.at/oesterreich/index.php?option=com_
 jem&view=event&id=66:inform\n
DTSTART;VALUE=DATE:20260902
DTEND;VALUE=DATE:20260907
LOCATION:Messezentrum Oberwart\,Informstr. 1\,7400 Oberwart
SUMMARY:Inform Messe Oberwart
URL:https://schnappen.at/oesterreich/index.php?option=com_jem&view=event&id
 =66:inform
END:VEVENT
END:VCALENDAR