BEGIN:VCALENDAR
VERSION:2.0
PRODID:-//81.88.36.52//NONSGML kigkonsult.se iCalcreator 2.20//
CALSCALE:GREGORIAN
METHOD:PUBLISH
X-WR-TIMEZONE:Europe/Vienna
BEGIN:VEVENT
UID:event669@Online-Magazin SCHNAPPEN.AT: die interessanten Seiten des Lebe
 ns
DTSTAMP:20260425T121646Z
CATEGORIES:Termine noch offen
DESCRIPTION:Nuke Festival \nKategorie: Termine noch offen\nICS-Link: https:
 //schnappen.at/oesterreich/index.php?option=com_jem&view=event&id=669:nuke
 \n
DTSTART;VALUE=DATE:20260830
DTEND;VALUE=DATE:20260831
LOCATION:Messeturm Stadthalle Graz\,Messeplatz 1\,8010 Graz
SUMMARY:Nuke Festival 
URL:https://schnappen.at/oesterreich/index.php?option=com_jem&view=event&id
 =669:nuke
END:VEVENT
END:VCALENDAR