BEGIN:VCALENDAR
VERSION:2.0
PRODID:-//81.88.36.52//NONSGML kigkonsult.se iCalcreator 2.20//
CALSCALE:GREGORIAN
METHOD:PUBLISH
X-WR-TIMEZONE:Europe/Vienna
BEGIN:VEVENT
UID:event650@Online-Magazin SCHNAPPEN.AT: die interessanten Seiten des Lebe
 ns
DTSTAMP:20260425T121631Z
CATEGORIES:Bauernmarkt & Adventmaerkte\, Termine noch offen
DESCRIPTION:Advent auf der Schallaburg\nKategorie: Bauernmarkt & Adventmaer
 kte\, Termine noch offen\nICS-Link: https://schnappen.at/oesterreich/index
 .php?option=com_jem&view=event&id=650:advent-schallaburg\n
DTSTART;VALUE=DATE:20261211
DTEND;VALUE=DATE:20261214
SUMMARY:Advent auf der Schallaburg
URL:https://schnappen.at/oesterreich/index.php?option=com_jem&view=event&id
 =650:advent-schallaburg
END:VEVENT
END:VCALENDAR