BEGIN:VCALENDAR
VERSION:2.0
PRODID:-//81.88.36.52//NONSGML kigkonsult.se iCalcreator 2.20//
CALSCALE:GREGORIAN
METHOD:PUBLISH
X-WR-TIMEZONE:Europe/Vienna
BEGIN:VEVENT
UID:event647@Online-Magazin SCHNAPPEN.AT: die interessanten Seiten des Lebe
 ns
DTSTAMP:20260425T134117Z
CATEGORIES:Bauernmarkt & Adventmaerkte
DESCRIPTION:Advent am Neufelder See\nKategorie: Bauernmarkt & Adventmaerkte
 \nICS-Link: https://schnappen.at/oesterreich/index.php?option=com_jem&view
 =event&id=647:advent-neufelder-see\n
DTSTART;VALUE=DATE:20261205
DTEND;VALUE=DATE:20261207
LOCATION:Neufelder See\,Eisenstädter Str. 37\,2492 Neufeld a. d. Leitha
SUMMARY:Advent am Neufelder See
URL:https://schnappen.at/oesterreich/index.php?option=com_jem&view=event&id
 =647:advent-neufelder-see
END:VEVENT
END:VCALENDAR