BEGIN:VCALENDAR
VERSION:2.0
PRODID:-//81.88.36.52//NONSGML kigkonsult.se iCalcreator 2.20//
CALSCALE:GREGORIAN
METHOD:PUBLISH
X-WR-TIMEZONE:Europe/Vienna
BEGIN:VEVENT
UID:event644@Online-Magazin SCHNAPPEN.AT: die interessanten Seiten des Lebe
 ns
DTSTAMP:20260425T122022Z
CATEGORIES:Veranstaltungen
DESCRIPTION:Popfest\nKategorie: Veranstaltungen\nICS-Link: https://schnappe
 n.at/oesterreich/index.php?option=com_jem&view=event&id=644:popfest-karlsp
 latz\n
DTSTART;VALUE=DATE:20260723
DTEND;VALUE=DATE:20260727
SUMMARY:Popfest
URL:https://schnappen.at/oesterreich/index.php?option=com_jem&view=event&id
 =644:popfest-karlsplatz
END:VEVENT
END:VCALENDAR