BEGIN:VCALENDAR
VERSION:2.0
PRODID:-//81.88.36.52//NONSGML kigkonsult.se iCalcreator 2.20//
CALSCALE:GREGORIAN
METHOD:PUBLISH
X-WR-TIMEZONE:Europe/Vienna
BEGIN:VEVENT
UID:event618@Online-Magazin SCHNAPPEN.AT: die interessanten Seiten des Lebe
 ns
DTSTAMP:20260425T134036Z
CATEGORIES:Bauernmarkt & Adventmaerkte
DESCRIPTION:Grafenegger Advent\nKategorie: Bauernmarkt & Adventmaerkte\nICS
 -Link: https://schnappen.at/oesterreich/index.php?option=com_jem&view=even
 t&id=618:grafenegg\n
DTSTART;VALUE=DATE:20261205
DTEND;VALUE=DATE:20261209
LOCATION:Grafenegg Wolkenturm\,Grafenegg 10\,3485  Grafenegg
SUMMARY:Grafenegger Advent
URL:https://schnappen.at/oesterreich/index.php?option=com_jem&view=event&id
 =618:grafenegg
END:VEVENT
END:VCALENDAR