BEGIN:VCALENDAR
VERSION:2.0
PRODID:-//81.88.36.52//NONSGML kigkonsult.se iCalcreator 2.20//
CALSCALE:GREGORIAN
METHOD:PUBLISH
X-WR-TIMEZONE:Europe/Vienna
BEGIN:VEVENT
UID:event617@Online-Magazin SCHNAPPEN.AT: die interessanten Seiten des Lebe
 ns
DTSTAMP:20260425T121826Z
CATEGORIES:Veranstaltungen
DESCRIPTION:Rust: Konzert in der Fischerkirche\nKategorie: Veranstaltungen
 \nICS-Link: https://schnappen.at/oesterreich/index.php?option=com_jem&view
 =event&id=617:ruster-wein\n
DTSTART;VALUE=DATE:20260627
DTEND;VALUE=DATE:20260628
LOCATION:Rust am Neusiedlersee\,Hauptstraße\,7071 rust
SUMMARY:Rust: Konzert in der Fischerkirche
URL:https://schnappen.at/oesterreich/index.php?option=com_jem&view=event&id
 =617:ruster-wein
END:VEVENT
END:VCALENDAR