BEGIN:VCALENDAR
VERSION:2.0
PRODID:-//81.88.36.52//NONSGML kigkonsult.se iCalcreator 2.20//
CALSCALE:GREGORIAN
METHOD:PUBLISH
X-WR-TIMEZONE:Europe/Vienna
BEGIN:VEVENT
UID:event612@Online-Magazin SCHNAPPEN.AT: die interessanten Seiten des Lebe
 ns
DTSTAMP:20260425T122337Z
CATEGORIES:Veranstaltungen
DESCRIPTION:Sons of the East\nKategorie: Veranstaltungen\nICS-Link: https:/
 /schnappen.at/oesterreich/index.php?option=com_jem&view=event&id=612:sons-
 of-the-east\n
DTSTART;VALUE=DATE:20260801
DTEND;VALUE=DATE:20260802
SUMMARY:Sons of the East
URL:https://schnappen.at/oesterreich/index.php?option=com_jem&view=event&id
 =612:sons-of-the-east
END:VEVENT
END:VCALENDAR