BEGIN:VCALENDAR
VERSION:2.0
PRODID:-//81.88.36.52//NONSGML kigkonsult.se iCalcreator 2.20//
CALSCALE:GREGORIAN
METHOD:PUBLISH
X-WR-TIMEZONE:Europe/Vienna
BEGIN:VEVENT
UID:event610@Online-Magazin SCHNAPPEN.AT: die interessanten Seiten des Lebe
 ns
DTSTAMP:20260425T121917Z
CATEGORIES:Veranstaltungen\, Messeveranstaltungen im Messekalender
DESCRIPTION:Buch Wien\, internationale Buchmesse\nKategorie: Veranstaltunge
 n\, Messeveranstaltungen im Messekalender\nICS-Link: https://schnappen.at/
 oesterreich/index.php?option=com_jem&view=event&id=610:buch-wien\n
DTSTART;VALUE=DATE:20261125
DTEND;VALUE=DATE:20261130
LOCATION:Messezentrum Wien\,Messeplatz 1\,1020 Wien
SUMMARY:Buch Wien\, internationale Buchmesse
URL:https://schnappen.at/oesterreich/index.php?option=com_jem&view=event&id
 =610:buch-wien
END:VEVENT
END:VCALENDAR