BEGIN:VCALENDAR
VERSION:2.0
PRODID:-//81.88.36.52//NONSGML kigkonsult.se iCalcreator 2.20//
CALSCALE:GREGORIAN
METHOD:PUBLISH
X-WR-TIMEZONE:Europe/Vienna
BEGIN:VEVENT
UID:event600@Online-Magazin SCHNAPPEN.AT: die interessanten Seiten des Lebe
 ns
DTSTAMP:20260425T105450Z
CATEGORIES:Veranstaltungen
DESCRIPTION:Cavalluna\, die Pferdeshow\nKategorie: Veranstaltungen\nICS-Lin
 k: https://schnappen.at/oesterreich/index.php?option=com_jem&view=event&id
 =600:pferdegala\n
DTSTART;VALUE=DATE:20260606
DTEND;VALUE=DATE:20260608
LOCATION:Messeturm Stadthalle Graz\,Messeplatz 1\,8010 Graz
SUMMARY:Cavalluna\, die Pferdeshow
URL:https://schnappen.at/oesterreich/index.php?option=com_jem&view=event&id
 =600:pferdegala
END:VEVENT
END:VCALENDAR