BEGIN:VCALENDAR
VERSION:2.0
PRODID:-//81.88.36.52//NONSGML kigkonsult.se iCalcreator 2.20//
CALSCALE:GREGORIAN
METHOD:PUBLISH
X-WR-TIMEZONE:Europe/Vienna
BEGIN:VEVENT
UID:event592@Online-Magazin SCHNAPPEN.AT: die interessanten Seiten des Lebe
 ns
DTSTAMP:20260425T121233Z
CATEGORIES:Veranstaltungen
DESCRIPTION:Simple Plan in Österreich und Deutschland\nKategorie: Veranstal
 tungen\nICS-Link: https://schnappen.at/oesterreich/index.php?option=com_je
 m&view=event&id=592:simple-plan\n
DTSTART;TZID=Europe/Vienna:20261020T210000
DTEND;TZID=Europe/Vienna:20261020T210000
SUMMARY:Simple Plan in Österreich und Deutschland
URL:https://schnappen.at/oesterreich/index.php?option=com_jem&view=event&id
 =592:simple-plan
END:VEVENT
END:VCALENDAR