BEGIN:VCALENDAR
VERSION:2.0
PRODID:-//81.88.36.52//NONSGML kigkonsult.se iCalcreator 2.20//
CALSCALE:GREGORIAN
METHOD:PUBLISH
X-WR-TIMEZONE:Europe/Vienna
BEGIN:VEVENT
UID:event590@Online-Magazin SCHNAPPEN.AT: die interessanten Seiten des Lebe
 ns
DTSTAMP:20260425T121939Z
CATEGORIES:Veranstaltungen
DESCRIPTION:Biker Festival\, Wiener Fahrradschau 2027\nKategorie: Veranstal
 tungen\nICS-Link: https://schnappen.at/oesterreich/index.php?option=com_je
 m&view=event&id=590:fahrradschau\n
DTSTART;VALUE=DATE:20270411
DTEND;VALUE=DATE:20270412
LOCATION:Wien Rathaus\,Rathausplatz 1\,1010 Wien
SUMMARY:Biker Festival\, Wiener Fahrradschau 2027
URL:https://schnappen.at/oesterreich/index.php?option=com_jem&view=event&id
 =590:fahrradschau
END:VEVENT
END:VCALENDAR