BEGIN:VCALENDAR
VERSION:2.0
PRODID:-//81.88.36.52//NONSGML kigkonsult.se iCalcreator 2.20//
CALSCALE:GREGORIAN
METHOD:PUBLISH
X-WR-TIMEZONE:Europe/Vienna
BEGIN:VEVENT
UID:event587@Online-Magazin SCHNAPPEN.AT: die interessanten Seiten des Lebe
 ns
DTSTAMP:20260425T122307Z
CATEGORIES:Veranstaltungen
DESCRIPTION:Lord Of The Dance\nKategorie: Veranstaltungen\nICS-Link: https:
 //schnappen.at/oesterreich/index.php?option=com_jem&view=event&id=587:lord
 -of-the-dance\n
DTSTART;VALUE=DATE:20260501
DTEND;VALUE=DATE:20260504
SUMMARY:Lord Of The Dance
URL:https://schnappen.at/oesterreich/index.php?option=com_jem&view=event&id
 =587:lord-of-the-dance
END:VEVENT
END:VCALENDAR