BEGIN:VCALENDAR
VERSION:2.0
PRODID:-//81.88.36.52//NONSGML kigkonsult.se iCalcreator 2.20//
CALSCALE:GREGORIAN
METHOD:PUBLISH
X-WR-TIMEZONE:Europe/Vienna
BEGIN:VEVENT
UID:event582@Online-Magazin SCHNAPPEN.AT: die interessanten Seiten des Lebe
 ns
DTSTAMP:20260425T122239Z
CATEGORIES:Messeveranstaltungen im Messekalender
DESCRIPTION:Genuss Burgenland\, die Genussmesse in Oberwart\nKategorie: Mes
 severanstaltungen im Messekalender\nICS-Link: https://schnappen.at/oesterr
 eich/index.php?option=com_jem&view=event&id=582:genuss-burgenland\n
DTSTART;VALUE=DATE:20261106
DTEND;VALUE=DATE:20261108
LOCATION:Messezentrum Oberwart\,Informstr. 1\,7400 Oberwart
SUMMARY:Genuss Burgenland\, die Genussmesse in Oberwart
URL:https://schnappen.at/oesterreich/index.php?option=com_jem&view=event&id
 =582:genuss-burgenland
END:VEVENT
END:VCALENDAR