BEGIN:VCALENDAR
VERSION:2.0
PRODID:-//81.88.36.52//NONSGML kigkonsult.se iCalcreator 2.20//
CALSCALE:GREGORIAN
METHOD:PUBLISH
X-WR-TIMEZONE:Europe/Vienna
BEGIN:VEVENT
UID:event579@Online-Magazin SCHNAPPEN.AT: die interessanten Seiten des Lebe
 ns
DTSTAMP:20260425T105354Z
CATEGORIES:Veranstaltungen
DESCRIPTION:Zucchero in Deutschland\nKategorie: Veranstaltungen\nICS-Link: 
 https://schnappen.at/oesterreich/index.php?option=com_jem&view=event&id=57
 9:zucchero\n
DTSTART;VALUE=DATE:20260621
DTEND;VALUE=DATE:20260622
SUMMARY:Zucchero in Deutschland
URL:https://schnappen.at/oesterreich/index.php?option=com_jem&view=event&id
 =579:zucchero
END:VEVENT
END:VCALENDAR