BEGIN:VCALENDAR
VERSION:2.0
PRODID:-//81.88.36.52//NONSGML kigkonsult.se iCalcreator 2.20//
CALSCALE:GREGORIAN
METHOD:PUBLISH
X-WR-TIMEZONE:Europe/Vienna
BEGIN:VEVENT
UID:event578@Online-Magazin SCHNAPPEN.AT: die interessanten Seiten des Lebe
 ns
DTSTAMP:20260425T105334Z
CATEGORIES:Termine noch offen
DESCRIPTION:Flohmarkt Wien\nKategorie: Termine noch offen\nICS-Link: https:
 //schnappen.at/oesterreich/index.php?option=com_jem&view=event&id=578:floh
 markt\n
DTSTART;VALUE=DATE:20270925
DTEND;VALUE=DATE:20270926
LOCATION:Naschmarkt Wien\,Kettenbrückengasse\,1060 Wien
SUMMARY:Flohmarkt Wien
URL:https://schnappen.at/oesterreich/index.php?option=com_jem&view=event&id
 =578:flohmarkt
END:VEVENT
END:VCALENDAR