BEGIN:VCALENDAR
VERSION:2.0
PRODID:-//81.88.36.52//NONSGML kigkonsult.se iCalcreator 2.20//
CALSCALE:GREGORIAN
METHOD:PUBLISH
X-WR-TIMEZONE:Europe/Vienna
BEGIN:VEVENT
UID:event55@Online-Magazin SCHNAPPEN.AT: die interessanten Seiten des Leben
 s
DTSTAMP:20260425T121813Z
CATEGORIES:Ballkalender & Balltermine
DESCRIPTION:TU-Ball\, Ball der Technik\nKategorie: Ballkalender & Balltermi
 ne\nICS-Link: https://schnappen.at/oesterreich/index.php?option=com_jem&vi
 ew=event&id=55:tu-ball\n
DTSTART;VALUE=DATE:20270128
DTEND;VALUE=DATE:20270129
LOCATION:Hofburg Wien\,Michaelerkuppel\,1010 Wien
SUMMARY:TU-Ball\, Ball der Technik
URL:https://schnappen.at/oesterreich/index.php?option=com_jem&view=event&id
 =55:tu-ball
END:VEVENT
END:VCALENDAR