BEGIN:VCALENDAR
VERSION:2.0
PRODID:-//81.88.36.52//NONSGML kigkonsult.se iCalcreator 2.20//
CALSCALE:GREGORIAN
METHOD:PUBLISH
X-WR-TIMEZONE:Europe/Vienna
BEGIN:VEVENT
UID:event54@Online-Magazin SCHNAPPEN.AT: die interessanten Seiten des Leben
 s
DTSTAMP:20260425T121938Z
CATEGORIES:Ballkalender & Balltermine
DESCRIPTION:Ärzteball 2027\nKategorie: Ballkalender & Balltermine\nICS-Link
 : https://schnappen.at/oesterreich/index.php?option=com_jem&view=event&id=
 54:aerzteball\n
DTSTART;VALUE=DATE:20270130
DTEND;VALUE=DATE:20270131
LOCATION:Hofburg Wien\,Michaelerkuppel\,1010 Wien
SUMMARY:Ärzteball 2027
URL:https://schnappen.at/oesterreich/index.php?option=com_jem&view=event&id
 =54:aerzteball
END:VEVENT
END:VCALENDAR