BEGIN:VCALENDAR
VERSION:2.0
PRODID:-//81.88.36.52//NONSGML kigkonsult.se iCalcreator 2.20//
CALSCALE:GREGORIAN
METHOD:PUBLISH
X-WR-TIMEZONE:Europe/Vienna
BEGIN:VEVENT
UID:event53@Online-Magazin SCHNAPPEN.AT: die interessanten Seiten des Leben
 s
DTSTAMP:20260425T121815Z
CATEGORIES:Ballkalender & Balltermine
DESCRIPTION:IAEA-Ball\nKategorie: Ballkalender & Balltermine\nICS-Link: htt
 ps://schnappen.at/oesterreich/index.php?option=com_jem&view=event&id=53:ia
 ea-ball\n
DTSTART;VALUE=DATE:20270213
DTEND;VALUE=DATE:20270214
LOCATION:Hofburg Wien\,Michaelerkuppel\,1010 Wien
SUMMARY:IAEA-Ball
URL:https://schnappen.at/oesterreich/index.php?option=com_jem&view=event&id
 =53:iaea-ball
END:VEVENT
END:VCALENDAR