BEGIN:VCALENDAR
VERSION:2.0
PRODID:-//81.88.36.52//NONSGML kigkonsult.se iCalcreator 2.20//
CALSCALE:GREGORIAN
METHOD:PUBLISH
X-WR-TIMEZONE:Europe/Vienna
BEGIN:VEVENT
UID:event51@Online-Magazin SCHNAPPEN.AT: die interessanten Seiten des Leben
 s
DTSTAMP:20260425T121815Z
CATEGORIES:Ballkalender & Balltermine
DESCRIPTION:Elmayer Kränzchen\nKategorie: Ballkalender & Balltermine\nICS-L
 ink: https://schnappen.at/oesterreich/index.php?option=com_jem&view=event&
 id=51:elmayer\n
DTSTART;VALUE=DATE:20270209
DTEND;VALUE=DATE:20270210
LOCATION:Hofburg Wien\,Michaelerkuppel\,1010 Wien
SUMMARY:Elmayer Kränzchen
URL:https://schnappen.at/oesterreich/index.php?option=com_jem&view=event&id
 =51:elmayer
END:VEVENT
END:VCALENDAR