BEGIN:VCALENDAR
VERSION:2.0
PRODID:-//81.88.36.52//NONSGML kigkonsult.se iCalcreator 2.20//
CALSCALE:GREGORIAN
METHOD:PUBLISH
X-WR-TIMEZONE:Europe/Vienna
BEGIN:VEVENT
UID:event513@Online-Magazin SCHNAPPEN.AT: die interessanten Seiten des Lebe
 ns
DTSTAMP:20260425T121831Z
CATEGORIES:Termine noch offen
DESCRIPTION:Wiener Kathreintanz\nKategorie: Termine noch offen\nICS-Link: h
 ttps://schnappen.at/oesterreich/index.php?option=com_jem&view=event&id=513
 :kathreintanz\n
DTSTART;VALUE=DATE:20261128
DTEND;VALUE=DATE:20261129
LOCATION:Palais Ferstel\,Freyung 2\,1010 Wien
SUMMARY:Wiener Kathreintanz
URL:https://schnappen.at/oesterreich/index.php?option=com_jem&view=event&id
 =513:kathreintanz
END:VEVENT
END:VCALENDAR