BEGIN:VCALENDAR
VERSION:2.0
PRODID:-//81.88.36.52//NONSGML kigkonsult.se iCalcreator 2.20//
CALSCALE:GREGORIAN
METHOD:PUBLISH
X-WR-TIMEZONE:Europe/Vienna
BEGIN:VEVENT
UID:event501@Online-Magazin SCHNAPPEN.AT: die interessanten Seiten des Lebe
 ns
DTSTAMP:20260425T121652Z
CATEGORIES:Veranstaltungen
DESCRIPTION:Beatrice Egli in Österreich und in der Schweiz\nKategorie: Vera
 nstaltungen\nICS-Link: https://schnappen.at/oesterreich/index.php?option=c
 om_jem&view=event&id=501:egli\n
DTSTART;TZID=Europe/Vienna:20261010T200000
DTEND;TZID=Europe/Vienna:20261010T200000
SUMMARY:Beatrice Egli in Österreich und in der Schweiz
URL:https://schnappen.at/oesterreich/index.php?option=com_jem&view=event&id
 =501:egli
END:VEVENT
END:VCALENDAR