BEGIN:VCALENDAR
VERSION:2.0
PRODID:-//81.88.36.52//NONSGML kigkonsult.se iCalcreator 2.20//
CALSCALE:GREGORIAN
METHOD:PUBLISH
X-WR-TIMEZONE:Europe/Vienna
BEGIN:VEVENT
UID:event49@Online-Magazin SCHNAPPEN.AT: die interessanten Seiten des Leben
 s
DTSTAMP:20260425T122020Z
CATEGORIES:Termine noch offen
DESCRIPTION:Juristenball 2027\nKategorie: Termine noch offen\nICS-Link: htt
 ps://schnappen.at/oesterreich/index.php?option=com_jem&view=event&id=49:ju
 ristenball\n
DTSTART;VALUE=DATE:20270213
DTEND;VALUE=DATE:20270214
LOCATION:Hofburg Wien\,Michaelerkuppel\,1010 Wien
SUMMARY:Juristenball 2027
URL:https://schnappen.at/oesterreich/index.php?option=com_jem&view=event&id
 =49:juristenball
END:VEVENT
END:VCALENDAR