BEGIN:VCALENDAR
VERSION:2.0
PRODID:-//81.88.36.52//NONSGML kigkonsult.se iCalcreator 2.20//
CALSCALE:GREGORIAN
METHOD:PUBLISH
X-WR-TIMEZONE:Europe/Vienna
BEGIN:VEVENT
UID:event498@Online-Magazin SCHNAPPEN.AT: die interessanten Seiten des Lebe
 ns
DTSTAMP:20260425T122021Z
CATEGORIES:Veranstaltungen
DESCRIPTION:Dogprofi Martin Rütter \nKategorie: Veranstaltungen\nICS-Link: 
 https://schnappen.at/oesterreich/index.php?option=com_jem&view=event&id=49
 8:ruetter-martin\n
DTSTART;VALUE=DATE:20270416
DTEND;VALUE=DATE:20270417
LOCATION:Messeturm Stadthalle Graz\,Messeplatz 1\,8010 Graz
SUMMARY:Dogprofi Martin Rütter 
URL:https://schnappen.at/oesterreich/index.php?option=com_jem&view=event&id
 =498:ruetter-martin
END:VEVENT
END:VCALENDAR