BEGIN:VCALENDAR
VERSION:2.0
PRODID:-//81.88.36.52//NONSGML kigkonsult.se iCalcreator 2.20//
CALSCALE:GREGORIAN
METHOD:PUBLISH
X-WR-TIMEZONE:Europe/Vienna
BEGIN:VEVENT
UID:event495@Online-Magazin SCHNAPPEN.AT: die interessanten Seiten des Lebe
 ns
DTSTAMP:20260425T122304Z
CATEGORIES:Veranstaltungen
DESCRIPTION:Akkordeon-Festival 2027 Wien\nKategorie: Veranstaltungen\nICS-L
 ink: https://schnappen.at/oesterreich/index.php?option=com_jem&view=event&
 id=495:akkordeon-festival\n
DTSTART;VALUE=DATE:20270220
DTEND;VALUE=DATE:20270315
SUMMARY:Akkordeon-Festival 2027 Wien
URL:https://schnappen.at/oesterreich/index.php?option=com_jem&view=event&id
 =495:akkordeon-festival
END:VEVENT
END:VCALENDAR