BEGIN:VCALENDAR
VERSION:2.0
PRODID:-//81.88.36.52//NONSGML kigkonsult.se iCalcreator 2.20//
CALSCALE:GREGORIAN
METHOD:PUBLISH
X-WR-TIMEZONE:Europe/Vienna
BEGIN:VEVENT
UID:event48@Online-Magazin SCHNAPPEN.AT: die interessanten Seiten des Leben
 s
DTSTAMP:20260425T121918Z
CATEGORIES:Ballkalender & Balltermine
DESCRIPTION:Wiener Kaffeesiederball 2027\nKategorie: Ballkalender & Ballter
 mine\nICS-Link: https://schnappen.at/oesterreich/index.php?option=com_jem&
 view=event&id=48:kaffeesiederball\n
DTSTART;VALUE=DATE:20270122
DTEND;VALUE=DATE:20270123
LOCATION:Hofburg Wien\,Michaelerkuppel\,1010 Wien
SUMMARY:Wiener Kaffeesiederball 2027
URL:https://schnappen.at/oesterreich/index.php?option=com_jem&view=event&id
 =48:kaffeesiederball
END:VEVENT
END:VCALENDAR