BEGIN:VCALENDAR
VERSION:2.0
PRODID:-//81.88.36.52//NONSGML kigkonsult.se iCalcreator 2.20//
CALSCALE:GREGORIAN
METHOD:PUBLISH
X-WR-TIMEZONE:Europe/Vienna
BEGIN:VEVENT
UID:event484@Online-Magazin SCHNAPPEN.AT: die interessanten Seiten des Lebe
 ns
DTSTAMP:20260425T121322Z
CATEGORIES:Flohmarkt\, Oldtimer
DESCRIPTION:Flohmarkt Eisenstadt\nKategorie: Flohmarkt\, Oldtimer\nICS-Link
 : https://schnappen.at/oesterreich/index.php?option=com_jem&view=event&id=
 484:flohmarkt\n
DTSTART;TZID=Europe/Vienna:20270627T060000
DTEND;TZID=Europe/Vienna:20270627T120000
LOCATION:Interspar Parkplatz\, vis a vis ehem. Kika\,Haidäcker Park 4\,7000
  Eisenstadt
SUMMARY:Flohmarkt Eisenstadt
URL:https://schnappen.at/oesterreich/index.php?option=com_jem&view=event&id
 =484:flohmarkt
END:VEVENT
END:VCALENDAR