BEGIN:VCALENDAR
VERSION:2.0
PRODID:-//81.88.36.52//NONSGML kigkonsult.se iCalcreator 2.20//
CALSCALE:GREGORIAN
METHOD:PUBLISH
X-WR-TIMEZONE:Europe/Vienna
BEGIN:VEVENT
UID:event47@Online-Magazin SCHNAPPEN.AT: die interessanten Seiten des Leben
 s
DTSTAMP:20260425T134037Z
CATEGORIES:Ballkalender & Balltermine
DESCRIPTION:Opernball 2027\nKategorie: Ballkalender & Balltermine\nICS-Link
 : https://schnappen.at/oesterreich/index.php?option=com_jem&view=event&id=
 47:opernball\n
DTSTART;VALUE=DATE:20270204
DTEND;VALUE=DATE:20270205
LOCATION:Staatsoper Wien\,Opernring 2\,1010 Wien
SUMMARY:Opernball 2027
URL:https://schnappen.at/oesterreich/index.php?option=com_jem&view=event&id
 =47:opernball
END:VEVENT
END:VCALENDAR