BEGIN:VCALENDAR
VERSION:2.0
PRODID:-//81.88.36.52//NONSGML kigkonsult.se iCalcreator 2.20//
CALSCALE:GREGORIAN
METHOD:PUBLISH
X-WR-TIMEZONE:Europe/Vienna
BEGIN:VEVENT
UID:event445@Online-Magazin SCHNAPPEN.AT: die interessanten Seiten des Lebe
 ns
DTSTAMP:20260425T121946Z
CATEGORIES:Veranstaltungen
DESCRIPTION:Guinness Irish Christmas Concert\nKategorie: Veranstaltungen\nI
 CS-Link: https://schnappen.at/oesterreich/index.php?option=com_jem&view=ev
 ent&id=445:irish-christmas\n
DTSTART;TZID=Europe/Vienna:20261219T200000
DTEND;TZID=Europe/Vienna:20261219T200000
LOCATION:Csello\, ehemalige Cselley-Mühle Oslip\,Sachsenweg 6\,7064 Oslip
SUMMARY:Guinness Irish Christmas Concert
URL:https://schnappen.at/oesterreich/index.php?option=com_jem&view=event&id
 =445:irish-christmas
END:VEVENT
END:VCALENDAR