BEGIN:VCALENDAR
VERSION:2.0
PRODID:-//81.88.36.52//NONSGML kigkonsult.se iCalcreator 2.20//
CALSCALE:GREGORIAN
METHOD:PUBLISH
X-WR-TIMEZONE:Europe/Vienna
BEGIN:VEVENT
UID:event420@Online-Magazin SCHNAPPEN.AT: die interessanten Seiten des Lebe
 ns
DTSTAMP:20260425T121942Z
CATEGORIES:Veranstaltungen
DESCRIPTION:Jazzfestival Saalfelden 2026 & 3 Tage Jazz 2026\nKategorie: Ver
 anstaltungen\nICS-Link: https://schnappen.at/oesterreich/index.php?option=
 com_jem&view=event&id=420:jazzfestival\n
DTSTART;VALUE=DATE:20260820
DTEND;VALUE=DATE:20260824
LOCATION:Saalfelden am Steinernen Meer\,Mittergasse\,5760 Saalfelden
SUMMARY:Jazzfestival Saalfelden 2026 & 3 Tage Jazz 2026
URL:https://schnappen.at/oesterreich/index.php?option=com_jem&view=event&id
 =420:jazzfestival
END:VEVENT
END:VCALENDAR