BEGIN:VCALENDAR
VERSION:2.0
PRODID:-//81.88.36.52//NONSGML kigkonsult.se iCalcreator 2.20//
CALSCALE:GREGORIAN
METHOD:PUBLISH
X-WR-TIMEZONE:Europe/Vienna
BEGIN:VEVENT
UID:event417@Online-Magazin SCHNAPPEN.AT: die interessanten Seiten des Lebe
 ns
DTSTAMP:20260425T122306Z
CATEGORIES:Veranstaltungen
DESCRIPTION:Salzburger Festspiele \nKategorie: Veranstaltungen\nICS-Link: h
 ttps://schnappen.at/oesterreich/index.php?option=com_jem&view=event&id=417
 :salzburger-festspiele\n
DTSTART;VALUE=DATE:20260717
DTEND;VALUE=DATE:20260831
LOCATION:Salzburg \,Domplatz\,5020 Salzburg
SUMMARY:Salzburger Festspiele 
URL:https://schnappen.at/oesterreich/index.php?option=com_jem&view=event&id
 =417:salzburger-festspiele
END:VEVENT
END:VCALENDAR