BEGIN:VCALENDAR
VERSION:2.0
PRODID:-//81.88.36.52//NONSGML kigkonsult.se iCalcreator 2.20//
CALSCALE:GREGORIAN
METHOD:PUBLISH
X-WR-TIMEZONE:Europe/Vienna
BEGIN:VEVENT
UID:event415@Online-Magazin SCHNAPPEN.AT: die interessanten Seiten des Lebe
 ns
DTSTAMP:20260425T121945Z
CATEGORIES:Veranstaltungen
DESCRIPTION:Wolfgang Muthspiel in Österreich\nKategorie: Veranstaltungen\nI
 CS-Link: https://schnappen.at/oesterreich/index.php?option=com_jem&view=ev
 ent&id=415:wolfgang-muthspiel\n
DTSTART;TZID=Europe/Vienna:20260504T203000
DTEND;TZID=Europe/Vienna:20260504T203000
SUMMARY:Wolfgang Muthspiel in Österreich
URL:https://schnappen.at/oesterreich/index.php?option=com_jem&view=event&id
 =415:wolfgang-muthspiel
END:VEVENT
END:VCALENDAR