BEGIN:VCALENDAR
VERSION:2.0
PRODID:-//81.88.36.52//NONSGML kigkonsult.se iCalcreator 2.20//
CALSCALE:GREGORIAN
METHOD:PUBLISH
X-WR-TIMEZONE:Europe/Vienna
BEGIN:VEVENT
UID:event414@Online-Magazin SCHNAPPEN.AT: die interessanten Seiten des Lebe
 ns
DTSTAMP:20260425T105518Z
CATEGORIES:Veranstaltungen
DESCRIPTION:Vollmondtour am Neusiedler See\nKategorie: Veranstaltungen\nICS
 -Link: https://schnappen.at/oesterreich/index.php?option=com_jem&view=even
 t&id=414:neusiedler-see\n
DTSTART;TZID=Europe/Vienna:20260530T200000
DTEND;TZID=Europe/Vienna:20260530T200000
LOCATION:Rust am Neusiedlersee\,Hauptstraße\,7071 rust
SUMMARY:Vollmondtour am Neusiedler See
URL:https://schnappen.at/oesterreich/index.php?option=com_jem&view=event&id
 =414:neusiedler-see
END:VEVENT
END:VCALENDAR